BEGIN:VCALENDAR
VERSION:2.0
PRODID:-//British Columbia Travel and Adventure Vacations - ECPv6.15.20//NONSGML v1.0//EN
CALSCALE:GREGORIAN
METHOD:PUBLISH
X-ORIGINAL-URL:https://britishcolumbia.com
X-WR-CALDESC:Events for British Columbia Travel and Adventure Vacations
REFRESH-INTERVAL;VALUE=DURATION:PT1H
X-Robots-Tag:noindex
X-PUBLISHED-TTL:PT1H
BEGIN:VTIMEZONE
TZID:America/Vancouver
BEGIN:DAYLIGHT
TZOFFSETFROM:-0800
TZOFFSETTO:-0700
TZNAME:PDT
DTSTART:20230312T100000
END:DAYLIGHT
BEGIN:STANDARD
TZOFFSETFROM:-0700
TZOFFSETTO:-0800
TZNAME:PST
DTSTART:20231105T090000
END:STANDARD
BEGIN:DAYLIGHT
TZOFFSETFROM:-0800
TZOFFSETTO:-0700
TZNAME:PDT
DTSTART:20240310T100000
END:DAYLIGHT
BEGIN:STANDARD
TZOFFSETFROM:-0700
TZOFFSETTO:-0800
TZNAME:PST
DTSTART:20241103T090000
END:STANDARD
BEGIN:DAYLIGHT
TZOFFSETFROM:-0800
TZOFFSETTO:-0700
TZNAME:PDT
DTSTART:20250309T100000
END:DAYLIGHT
BEGIN:STANDARD
TZOFFSETFROM:-0700
TZOFFSETTO:-0800
TZNAME:PST
DTSTART:20251102T090000
END:STANDARD
END:VTIMEZONE
BEGIN:VEVENT
DTSTART;VALUE=DATE:20240221
DTEND;VALUE=DATE:20240311
DTSTAMP:20260425T052330
CREATED:20240214T154328Z
LAST-MODIFIED:20240214T173303Z
UID:10000011-1708473600-1710115199@britishcolumbia.com
SUMMARY:ITSAZOO presents Sunrise Betties
DESCRIPTION:ITSAZOO presents a gripping world premiere\, “Sunrise Betties\,” inspired by the dark and forgotten history of East Vancouver. Running from February 21 to March 10\, 2024\, at The Russian Hall’s basement (600 Campbell Street)\, this production delves into the city’s murky past. Playwright-in-Residence Cheyenne Rouleau crafts a fictional narrative around an all-female gang during Vancouver’s 1972 street gang crisis. Directed by local luminary Jamie King\, the play promises to transport audiences back 50 years to a once-infamous East Vancouver neighborhood. Amidst clashes for drug trade control\, police corruption\, and lurking danger\, the show delivers an immersive experience. Please note: This production contains graphic violence and coarse language\, making it unsuitable for individuals under 16. For tickets and information\, visit itsazoo.org.
URL:https://britishcolumbia.com/event/itsazoo-presents-sunrise-betties/
LOCATION:Sunrise Betties\, 600 Campbell Ave\, Vancouver\, British Columbia\, V6A 3K1\, Canada
CATEGORIES:Theatre
END:VEVENT
END:VCALENDAR