BEGIN:VCALENDAR
VERSION:2.0
PRODID:-//British Columbia Travel and Adventure Vacations - ECPv6.15.20//NONSGML v1.0//EN
CALSCALE:GREGORIAN
METHOD:PUBLISH
X-ORIGINAL-URL:https://britishcolumbia.com
X-WR-CALDESC:Events for British Columbia Travel and Adventure Vacations
REFRESH-INTERVAL;VALUE=DURATION:PT1H
X-Robots-Tag:noindex
X-PUBLISHED-TTL:PT1H
BEGIN:VTIMEZONE
TZID:America/Vancouver
BEGIN:DAYLIGHT
TZOFFSETFROM:-0800
TZOFFSETTO:-0700
TZNAME:PDT
DTSTART:20230312T100000
END:DAYLIGHT
BEGIN:STANDARD
TZOFFSETFROM:-0700
TZOFFSETTO:-0800
TZNAME:PST
DTSTART:20231105T090000
END:STANDARD
BEGIN:DAYLIGHT
TZOFFSETFROM:-0800
TZOFFSETTO:-0700
TZNAME:PDT
DTSTART:20240310T100000
END:DAYLIGHT
BEGIN:STANDARD
TZOFFSETFROM:-0700
TZOFFSETTO:-0800
TZNAME:PST
DTSTART:20241103T090000
END:STANDARD
BEGIN:DAYLIGHT
TZOFFSETFROM:-0800
TZOFFSETTO:-0700
TZNAME:PDT
DTSTART:20250309T100000
END:DAYLIGHT
BEGIN:STANDARD
TZOFFSETFROM:-0700
TZOFFSETTO:-0800
TZNAME:PST
DTSTART:20251102T090000
END:STANDARD
END:VTIMEZONE
BEGIN:VEVENT
DTSTART;TZID=America/Vancouver:20240706T120000
DTEND;TZID=America/Vancouver:20240706T170000
DTSTAMP:20260421T120231
CREATED:20240419T151337Z
LAST-MODIFIED:20240419T151655Z
UID:10000040-1720267200-1720285200@britishcolumbia.com
SUMMARY:Parksville Beer Festival
DESCRIPTION:Parksville Beer Festival\nThe Parksville Beer Festival is a one-day festival designed for individuals over 19. It celebrates the finest in craft beer and exceptional entertainment. This festival aims to forge stronger community ties\, showcase local breweries and food artisans\, and provide a platform for musical talents. \nEvent Dates and Times:\nSaturday\, July 6th\, 2024 from 12pm to 5pm (early access for VIP at 11am) \nEvent Website: www.parksvillebeerfestival.com\nPhone number: 236.333.2804 \nFacebook page: https://fb.me/e/7seCsrpJR \nEvent Location: Parksville Community Park
URL:https://britishcolumbia.com/event/parksville-beer-festival/
LOCATION:Parksville Community Park\, 193 Island Hwy E\, Parksville\, BC\, V9P 2H5\, Canada
CATEGORIES:Festivals,Food
ATTACH;FMTTYPE=image/jpeg:https://britishcolumbia.com/wp-content/uploads/2024/04/Parksville-Beer-Festival.jpg
END:VEVENT
END:VCALENDAR