BEGIN:VCALENDAR
VERSION:2.0
PRODID:-//British Columbia Travel and Adventure Vacations - ECPv6.15.20//NONSGML v1.0//EN
CALSCALE:GREGORIAN
METHOD:PUBLISH
X-WR-CALNAME:British Columbia Travel and Adventure Vacations
X-ORIGINAL-URL:https://britishcolumbia.com
X-WR-CALDESC:Events for British Columbia Travel and Adventure Vacations
REFRESH-INTERVAL;VALUE=DURATION:PT1H
X-Robots-Tag:noindex
X-PUBLISHED-TTL:PT1H
BEGIN:VTIMEZONE
TZID:America/Vancouver
BEGIN:DAYLIGHT
TZOFFSETFROM:-0800
TZOFFSETTO:-0700
TZNAME:PDT
DTSTART:20230312T100000
END:DAYLIGHT
BEGIN:STANDARD
TZOFFSETFROM:-0700
TZOFFSETTO:-0800
TZNAME:PST
DTSTART:20231105T090000
END:STANDARD
BEGIN:DAYLIGHT
TZOFFSETFROM:-0800
TZOFFSETTO:-0700
TZNAME:PDT
DTSTART:20240310T100000
END:DAYLIGHT
BEGIN:STANDARD
TZOFFSETFROM:-0700
TZOFFSETTO:-0800
TZNAME:PST
DTSTART:20241103T090000
END:STANDARD
BEGIN:DAYLIGHT
TZOFFSETFROM:-0800
TZOFFSETTO:-0700
TZNAME:PDT
DTSTART:20250309T100000
END:DAYLIGHT
BEGIN:STANDARD
TZOFFSETFROM:-0700
TZOFFSETTO:-0800
TZNAME:PST
DTSTART:20251102T090000
END:STANDARD
END:VTIMEZONE
BEGIN:VEVENT
DTSTART;TZID=America/Vancouver:20240706T110000
DTEND;TZID=America/Vancouver:20240706T200000
DTSTAMP:20260419T134001
CREATED:20240224T031918Z
LAST-MODIFIED:20240227T173152Z
UID:10000039-1720263600-1720296000@britishcolumbia.com
SUMMARY:World Wide Food Festival\, 2024
DESCRIPTION:Calling all food lovers and culture enthusiasts! Brace yourselves for a mouthwatering affair that promises to be the highlight of the year. We’re thrilled to introduce an exciting transformation as we transition from the Multicultural Connections Festival to the World Wide Food Festival! Curious about the change? It’s quite simple – we understand the remarkable power of food to unite us and celebrate the diverse tapestry that defines our community. Get ready for an unforgettable experience featuring our signature lineup of mesmerizing multicultural performances\, but with a twist – embark on a global culinary adventure! From tantalizing street eats to exotic flavors\, there’s a culinary sensation waiting for every palate!
URL:https://britishcolumbia.com/event/world-wide-food-festival-2024/
LOCATION:Town Centre Park Community Plaza\, 1299 Pinetree Way\, Coquitlam\, British Columbia\, V3B 4S1\, Canada
CATEGORIES:Festivals,Food
END:VEVENT
END:VCALENDAR